BEGIN:VCALENDAR
VERSION:2.0
PRODID:-//Indivisible Bangor - ECPv6.15.20//NONSGML v1.0//EN
CALSCALE:GREGORIAN
METHOD:PUBLISH
X-WR-CALNAME:Indivisible Bangor
X-ORIGINAL-URL:https://indivisiblebangor.org
X-WR-CALDESC:Events for Indivisible Bangor
REFRESH-INTERVAL;VALUE=DURATION:PT1H
X-Robots-Tag:noindex
X-PUBLISHED-TTL:PT1H
BEGIN:VTIMEZONE
TZID:America/New_York
BEGIN:DAYLIGHT
TZOFFSETFROM:-0500
TZOFFSETTO:-0400
TZNAME:EDT
DTSTART:20250309T070000
END:DAYLIGHT
BEGIN:STANDARD
TZOFFSETFROM:-0400
TZOFFSETTO:-0500
TZNAME:EST
DTSTART:20251102T060000
END:STANDARD
BEGIN:DAYLIGHT
TZOFFSETFROM:-0500
TZOFFSETTO:-0400
TZNAME:EDT
DTSTART:20260308T070000
END:DAYLIGHT
BEGIN:STANDARD
TZOFFSETFROM:-0400
TZOFFSETTO:-0500
TZNAME:EST
DTSTART:20261101T060000
END:STANDARD
BEGIN:DAYLIGHT
TZOFFSETFROM:-0500
TZOFFSETTO:-0400
TZNAME:EDT
DTSTART:20270314T070000
END:DAYLIGHT
BEGIN:STANDARD
TZOFFSETFROM:-0400
TZOFFSETTO:-0500
TZNAME:EST
DTSTART:20271107T060000
END:STANDARD
END:VTIMEZONE
BEGIN:VEVENT
DTSTART;TZID=America/New_York:20260421T180000
DTEND;TZID=America/New_York:20260421T190000
DTSTAMP:20260421T045915
CREATED:20260417T120419Z
LAST-MODIFIED:20260417T162408Z
UID:5051-1776794400-1776798000@indivisiblebangor.org
SUMMARY:Bangor Town Hall - Paige Loud
DESCRIPTION:Time\n\n\nTuesday\, April 21\n6 – 7pm EDT\n\n\n\n\n \n\n\nLocation\n\n\nNorman Minsky Lecture Hall – Bangor Public Library\n145 Harlow St\n\nBangor\, ME 04401 \nMap\n\n\n\n\n\n\n\nAbout this event\n\n\n\n\n\n\n\nPaige Loud is a candidate for the US House of Representatives in Maine CD-2. Paige is a 29-year-old social worker running for Congress because social workers are trained to do the work Congress refuses to do: listen\, weigh competing needs\, build consensus\, and make decisions through an ethical lens that centers human dignity. Find out more about her platforms here: https://www.loudforcongress.com/issues \nDoors open at 5:30 pm\, Event begins at 6 pm. \nIf you’re in the Bangor area\, come to Paige’s Town Hall to express your thoughts and concerns\, learn more about her\, and ask questions!
URL:https://indivisiblebangor.org/calendar/bangor-town-hall-paige-loud/
CATEGORIES:Town Hall
END:VEVENT
BEGIN:VEVENT
DTSTART;TZID=America/New_York:20260422T170000
DTEND;TZID=America/New_York:20260422T180000
DTSTAMP:20260421T045915
CREATED:20260417T115955Z
LAST-MODIFIED:20260417T115955Z
UID:5049-1776877200-1776880800@indivisiblebangor.org
SUMMARY:Statewide Call - Platner
DESCRIPTION:
URL:https://indivisiblebangor.org/calendar/statewide-call-platner/
END:VEVENT
BEGIN:VEVENT
DTSTART;TZID=America/New_York:20260506T000000
DTEND;TZID=America/New_York:20260506T235959
DTSTAMP:20260421T045915
CREATED:20260417T115501Z
LAST-MODIFIED:20260417T115501Z
UID:5047-1778025600-1778111999@indivisiblebangor.org
SUMMARY:Potluck
DESCRIPTION:
URL:https://indivisiblebangor.org/calendar/potluck/
END:VEVENT
BEGIN:VEVENT
DTSTART;TZID=America/New_York:20260508T000000
DTEND;TZID=America/New_York:20260508T235959
DTSTAMP:20260421T045915
CREATED:20260417T113505Z
LAST-MODIFIED:20260417T162448Z
UID:5019-1778198400-1778284799@indivisiblebangor.org
SUMMARY:Hearty Maine Farewell
DESCRIPTION:
URL:https://indivisiblebangor.org/calendar/hearty-maine-farewell/
LOCATION:UMaine Campus\, United States
CATEGORIES:UMaine Event
END:VEVENT
BEGIN:VEVENT
DTSTART;TZID=America/New_York:20260522T110000
DTEND;TZID=America/New_York:20260522T170000
DTSTAMP:20260421T045915
CREATED:20260417T152128Z
LAST-MODIFIED:20260417T162750Z
UID:5053-1779447600-1779469200@indivisiblebangor.org
SUMMARY:UMaine "Clean Sweep"
DESCRIPTION:University of Maine Student Life will host its annual Clean Sweep Sale from 11 a.m.–5 p.m. on Friday\, May 22\, and from 8 a.m.–noon on Saturday\, May 23\, at the Alfond Arena. \nHome furnishings left behind in residence halls during student move out\, including furniture\, decorations and appliances\, will be available for sale\, as well as a limited selection of dorm furniture.
URL:https://indivisiblebangor.org/calendar/umaine-clean-sweep/
LOCATION:UMaine Campus\, United States
CATEGORIES:UMaine Event
END:VEVENT
BEGIN:VEVENT
DTSTART;TZID=America/New_York:20260523T080000
DTEND;TZID=America/New_York:20260523T120000
DTSTAMP:20260421T045915
CREATED:20260417T154011Z
LAST-MODIFIED:20260417T154011Z
UID:5056-1779523200-1779537600@indivisiblebangor.org
SUMMARY:UMaine "Clean Sweep"
DESCRIPTION:University of Maine Student Life will host its annual Clean Sweep Sale from 11 a.m.–5 p.m. on Friday\, May 22\, and from 8 a.m.–noon on Saturday\, May 23\, at the Alfond Arena. \nHome furnishings left behind in residence halls during student move out\, including furniture\, decorations and appliances\, will be available for sale\, as well as a limited selection of dorm furniture.
URL:https://indivisiblebangor.org/calendar/umaine-clean-sweep-2/
LOCATION:UMaine Campus\, United States
END:VEVENT
BEGIN:VEVENT
DTSTART;TZID=America/New_York:20260527T000000
DTEND;TZID=America/New_York:20260527T235959
DTSTAMP:20260421T045915
CREATED:20260417T115439Z
LAST-MODIFIED:20260417T162257Z
UID:5045-1779840000-1779926399@indivisiblebangor.org
SUMMARY:Orono Town Hall - Matt Dunlap
DESCRIPTION:Time\n\n\nWednesday\, May 27\n6 – 7pm EDT\n\n\n\n\n \n\n\nLocation\n\n\nOrono Public Library\n39 Pine St\n\nOrono\, ME 04473 \nMap\n\n\n\n\n\n\n\nAbout this event\n\n\n\n\n\n\n\nI’m excited to invite you to a town hall in Orono! This is a chance for us to sit down together\, talk about the issues that matter most to Maine families\, and hear directly from you. \nI’ll share my vision for Maine\, answer your questions\, and listen to your concerns. I’ve always made it a priority to be accessible to voters\, and I look forward to having an open conversation with you. \nI hope you can join me — bring your questions\, ideas\, and your voice! \nThe event will be held at the Orono Public Library\, 39 Pine Street. Please note: room capacity is limited to 20 people.
URL:https://indivisiblebangor.org/calendar/orono-town-hall-matt-dunlap/
CATEGORIES:Town Hall
END:VEVENT
BEGIN:VEVENT
DTSTART;TZID=America/New_York:20260606T110000
DTEND;TZID=America/New_York:20260606T220000
DTSTAMP:20260421T045915
CREATED:20260417T114154Z
LAST-MODIFIED:20260417T162808Z
UID:5024-1780743600-1780783200@indivisiblebangor.org
SUMMARY:Brewer Riverwalk Festival
DESCRIPTION:  \n  \nLast year’s festival: https://www.wabi.tv/2025/06/07/5th-annual-riverwalk-festival-draws-crowds-brewer/ \n  \n 
URL:https://indivisiblebangor.org/calendar/brewer-riverwalk-festival/
CATEGORIES:Festival
END:VEVENT
BEGIN:VEVENT
DTSTART;TZID=America/New_York:20260609T000000
DTEND;TZID=America/New_York:20260609T235959
DTSTAMP:20260421T045915
CREATED:20260417T115018Z
LAST-MODIFIED:20260417T115018Z
UID:5039-1780963200-1781049599@indivisiblebangor.org
SUMMARY:Election Day - Primaries
DESCRIPTION:
URL:https://indivisiblebangor.org/calendar/election-day-primaries/
END:VEVENT
BEGIN:VEVENT
DTSTART;TZID=America/New_York:20260614T000000
DTEND;TZID=America/New_York:20260614T235959
DTSTAMP:20260421T045915
CREATED:20260417T113611Z
LAST-MODIFIED:20260417T113611Z
UID:5021-1781395200-1781481599@indivisiblebangor.org
SUMMARY:June 14th
DESCRIPTION:
URL:https://indivisiblebangor.org/calendar/june-14th/
END:VEVENT
BEGIN:VEVENT
DTSTART;TZID=America/New_York:20260619T000000
DTEND;TZID=America/New_York:20260619T235959
DTSTAMP:20260421T045915
CREATED:20260417T114238Z
LAST-MODIFIED:20260417T114238Z
UID:5029-1781827200-1781913599@indivisiblebangor.org
SUMMARY:Juneteenth
DESCRIPTION:
URL:https://indivisiblebangor.org/calendar/juneteenth/
END:VEVENT
BEGIN:VEVENT
DTSTART;TZID=America/New_York:20260626T000000
DTEND;TZID=America/New_York:20260628T235959
DTSTAMP:20260421T045915
CREATED:20260418T105334Z
LAST-MODIFIED:20260418T105334Z
UID:5072-1782432000-1782691199@indivisiblebangor.org
SUMMARY:Orono Arts Fest
DESCRIPTION:The Arts in Orono\n\n\n\n\n\n\n\n\n\n\nThe Orono Arts Fest is excited to build on the rich legacy of Artsapalooza\, Orono’s cherished arts festival that ran for 13 vibrant years until its conclusion in 2023. Created and nurtured by the passionate members of Stillwater Community Arts\, Artsapalooza created a thriving community for artists and art enthusiasts alike. \nWhen the nonprofit disbanded in early 2024\, the Town of Orono took the initiative to keep the artistic spirit alive by launching a new festival. From this vision\, the Orono Arts Fest was born\, benefiting from the Town’s generous funding and logistic support. \nIn 2026\, the third annual Orono Arts Fest promises an exciting array of offerings including music\, theatre\, dance\, and visual arts. Attendees can look forward to an engaging main stage series at the Orono High School Performing Arts Center\, dynamic music concerts scattered throughout local venues\, interactive workshops to get hands-on with art-making\, fun-filled kids’ art activities\, and an Artists’ Market showcasing local craftspeople. \nLast year’s event brought together over 1500 attendees and 96 artists for 33 live performances and an artist’s market featuring more than 35 artists. With its diverse program\, the Orono Arts Fest truly offers something for everyone—each person\, regardless of age\, can find joy in the celebration of creativity and the arts. Join us as we continue this wonderful tradition!
URL:https://indivisiblebangor.org/calendar/orono-arts-fest/
END:VEVENT
BEGIN:VEVENT
DTSTART;TZID=America/New_York:20260627T000000
DTEND;TZID=America/New_York:20260627T235959
DTSTAMP:20260421T045915
CREATED:20260417T114439Z
LAST-MODIFIED:20260417T162720Z
UID:5031-1782518400-1782604799@indivisiblebangor.org
SUMMARY:Bangor Pride
DESCRIPTION:
URL:https://indivisiblebangor.org/calendar/bangor-pride/
CATEGORIES:Festival
END:VEVENT
BEGIN:VEVENT
DTSTART;TZID=America/New_York:20260704T000000
DTEND;TZID=America/New_York:20260704T235959
DTSTAMP:20260421T045915
CREATED:20260417T114704Z
LAST-MODIFIED:20260417T162711Z
UID:5033-1783123200-1783209599@indivisiblebangor.org
SUMMARY:Independence Day Parade - Bangor
DESCRIPTION:
URL:https://indivisiblebangor.org/calendar/independence-day-parade-bangor/
CATEGORIES:Festival
END:VEVENT
BEGIN:VEVENT
DTSTART;TZID=America/New_York:20260925T000000
DTEND;TZID=America/New_York:20260927T235959
DTSTAMP:20260421T045915
CREATED:20260417T114825Z
LAST-MODIFIED:20260417T162656Z
UID:5035-1790294400-1790553599@indivisiblebangor.org
SUMMARY:Old Town Riverfest
DESCRIPTION:
URL:https://indivisiblebangor.org/calendar/old-town-riverfest/
CATEGORIES:Festival
END:VEVENT
BEGIN:VEVENT
DTSTART;TZID=America/New_York:20261023T000000
DTEND;TZID=America/New_York:20261024T235959
DTSTAMP:20260421T045915
CREATED:20260417T114904Z
LAST-MODIFIED:20260417T162634Z
UID:5037-1792713600-1792886399@indivisiblebangor.org
SUMMARY:UMaine Homecoming
DESCRIPTION:
URL:https://indivisiblebangor.org/calendar/umaine-homecoming/
CATEGORIES:UMaine Event
END:VEVENT
BEGIN:VEVENT
DTSTART;TZID=America/New_York:20261103T000000
DTEND;TZID=America/New_York:20261103T235959
DTSTAMP:20260421T045915
CREATED:20260417T115118Z
LAST-MODIFIED:20260417T115118Z
UID:5041-1793664000-1793750399@indivisiblebangor.org
SUMMARY:Election Day - General (Mid-Terms)
DESCRIPTION:
URL:https://indivisiblebangor.org/calendar/election-day-general-mid-terms/
END:VEVENT
END:VCALENDAR